BEGIN:VCALENDAR
VERSION:2.0
PRODID:-//Parcevall Hall - ECPv5.14.0.2//NONSGML v1.0//EN
CALSCALE:GREGORIAN
METHOD:PUBLISH
X-WR-CALNAME:Parcevall Hall
X-ORIGINAL-URL:https://www.parcevallhall.org.uk
X-WR-CALDESC:Events for Parcevall Hall
REFRESH-INTERVAL;VALUE=DURATION:PT1H
X-Robots-Tag:noindex
X-PUBLISHED-TTL:PT1H
BEGIN:VTIMEZONE
TZID:UTC
BEGIN:STANDARD
TZOFFSETFROM:+0000
TZOFFSETTO:+0000
TZNAME:UTC
DTSTART:20230101T000000
END:STANDARD
END:VTIMEZONE
BEGIN:VEVENT
DTSTART;TZID=UTC:20230328T160000
DTEND;TZID=UTC:20230331T150000
DTSTAMP:20260424T223434
CREATED:20221113T113851Z
LAST-MODIFIED:20221113T113504Z
UID:5043-1680019200-1680274800@www.parcevallhall.org.uk
SUMMARY:Spring Walking in Wharfedale
DESCRIPTION:Spring Walking in Wharfedale\n\nWharfedale’s varied landscape is on a reassuringly human scale; wild moorland\, wooded vales and boulder-strewn hillsides above the peaty waters of the River Wharfe. We offer a choice each  day of either short or longer walks with our guides\, returning to the welcome and warmth of the Hall. Packed lunches are provided\, but if at any time you would rather take a stroll around the  gardens\, lunch can be served for you in the dining room. \nOur chaplain\, Canon Graham Bettridge\, will be here for a part of your stay to provide spiritual leadership for those who would like to participate. \nOur second walking break this year is from 23-26 October.
URL:https://www.parcevallhall.org.uk/event/spring-walking-in-wharfedale-2/
END:VEVENT
END:VCALENDAR