BEGIN:VCALENDAR
VERSION:2.0
PRODID:-//Parcevall Hall - ECPv5.14.0.2//NONSGML v1.0//EN
CALSCALE:GREGORIAN
METHOD:PUBLISH
X-WR-CALNAME:Parcevall Hall
X-ORIGINAL-URL:https://www.parcevallhall.org.uk
X-WR-CALDESC:Events for Parcevall Hall
REFRESH-INTERVAL;VALUE=DURATION:PT1H
X-Robots-Tag:noindex
X-PUBLISHED-TTL:PT1H
BEGIN:VTIMEZONE
TZID:UTC
BEGIN:STANDARD
TZOFFSETFROM:+0000
TZOFFSETTO:+0000
TZNAME:UTC
DTSTART:20230101T000000
END:STANDARD
END:VTIMEZONE
BEGIN:VEVENT
DTSTART;TZID=UTC:20230403T100000
DTEND;TZID=UTC:20230403T160000
DTSTAMP:20260424T223512
CREATED:20221113T114038Z
LAST-MODIFIED:20221113T113906Z
UID:5046-1680516000-1680537600@www.parcevallhall.org.uk
SUMMARY:Quiet Day II
DESCRIPTION:Leader: Revd Canon Andrew Tawn\n\n‘My God\, my God\, why have you forsaken me?’\n\nAs this quiet day falls in Holy Week\, we will be reflecting on Jesus’ agonised cry from the cross. These words lead us into some of the great mysteries of faith: our own experiences of God’s  absence; why did Jesus have to suffer and die on the cross? What sense can we make of our own suffering? How can we truly celebrate the resurrection\, unless we travel by the way of the  cross? \nThis day is an invitation to watch and pray with Christ in his suffering; to resist the temptation to bypass the darker themes of Holy Week\, so that we may be the better prepared for the light and joy of Easter. \nAndrew Tawn is Director of Clergy Development for the Diocese of Leeds. Before that he was rector of Addingham. Once upon a time he was a secondary school teacher\, and his interest and  enthusiasm for how we learn has always been an important strand in his ministry\, being involved in training ordinands\, readers and curates before his present full time training role. He loves  reading\, walking and good food. \nThis is a free event\, but please note\, booking is now required. Please email or phone the office to book your place.\nPlease bring your own lunch.\nFreewill offering
URL:https://www.parcevallhall.org.uk/event/quiet-day-ii-2/
END:VEVENT
END:VCALENDAR