BEGIN:VCALENDAR
VERSION:2.0
PRODID:-//Parcevall Hall - ECPv5.14.0.2//NONSGML v1.0//EN
CALSCALE:GREGORIAN
METHOD:PUBLISH
X-WR-CALNAME:Parcevall Hall
X-ORIGINAL-URL:https://www.parcevallhall.org.uk
X-WR-CALDESC:Events for Parcevall Hall
REFRESH-INTERVAL;VALUE=DURATION:PT1H
X-Robots-Tag:noindex
X-PUBLISHED-TTL:PT1H
BEGIN:VTIMEZONE
TZID:UTC
BEGIN:STANDARD
TZOFFSETFROM:+0000
TZOFFSETTO:+0000
TZNAME:UTC
DTSTART:20230101T000000
END:STANDARD
END:VTIMEZONE
BEGIN:VEVENT
DTSTART;TZID=UTC:20230406T160000
DTEND;TZID=UTC:20230410T100000
DTSTAMP:20260424T223602
CREATED:20221113T114111Z
LAST-MODIFIED:20221113T114119Z
UID:5048-1680796800-1681120800@www.parcevallhall.org.uk
SUMMARY:Easter Retreat
DESCRIPTION:Leader: Canon Graham Bettridge\n\nJoin us at Parcevall Hall for this most special week of the year. The programme will be led by our chaplain\, Canon Graham Bettridge\, taking time to reflect on the significance of Holy Week\, and celebrating together the triumph of Easter Day. \nGraham trained for the ministry at the Society of the Sacred Mission in Durham. He was ordained in the Bradford Diocese by Bishop Michael Parker\, and his ordination retreat was spent at  Parcevall\, which was then the newly-acquired retreat house of Bradford Diocese. After ordination\, Graham was Team Rector of the seven Rainbow Parishes\, based in Kirby Lonsdale. He was also Honorary Canon and Senior Chaplain of Cumbria Police Service from 1992 until 2012. In 2007 he was appointed Honorary Chaplain of Parcevall Hall by Bishop Nick Baines.
URL:https://www.parcevallhall.org.uk/event/easter-retreat-4/
END:VEVENT
END:VCALENDAR