BEGIN:VCALENDAR
VERSION:2.0
PRODID:-//Parcevall Hall - ECPv5.14.0.2//NONSGML v1.0//EN
CALSCALE:GREGORIAN
METHOD:PUBLISH
X-WR-CALNAME:Parcevall Hall
X-ORIGINAL-URL:https://www.parcevallhall.org.uk
X-WR-CALDESC:Events for Parcevall Hall
REFRESH-INTERVAL;VALUE=DURATION:PT1H
X-Robots-Tag:noindex
X-PUBLISHED-TTL:PT1H
BEGIN:VTIMEZONE
TZID:UTC
BEGIN:STANDARD
TZOFFSETFROM:+0000
TZOFFSETTO:+0000
TZNAME:UTC
DTSTART:20230101T000000
END:STANDARD
END:VTIMEZONE
BEGIN:VEVENT
DTSTART;TZID=UTC:20230502T160000
DTEND;TZID=UTC:20230504T150000
DTSTAMP:20260424T205722
CREATED:20221113T120531Z
LAST-MODIFIED:20221113T120105Z
UID:5061-1683043200-1683212400@www.parcevallhall.org.uk
SUMMARY:Beginners' Birdwatching & The Dawn Chorus
DESCRIPTION:Leader: Chris Bradshaw\n\nJoin us on a relaxed birdwatching break aimed at people new to birdwatching\, or those just wishing to enjoy commoner birds in a tranquil location. We will have a programme of short  birdwatching walks which focus on learning how to identify and understand more about the life histories of the commoner resident and migrant birds that occur in the area. There will also be the opportunity to experience one of nature’s most delightful spring events; the dawn chorus. \nChris Bradshaw has been working as a freelance ornithologist and birdwatching tour guide for over 25 years. Currently spending much of his time undertaking ornithological survey work across northern England\, he formerly led many overseas birdwatching tours\, and still runs customised birdwatching trips in the UK. He finds great joy in watching and passing on his knowledge of the  commoner British birds which first inspired his interest as a child.
URL:https://www.parcevallhall.org.uk/event/beginners-birdwatching-the-dawn-chorus-3/
END:VEVENT
END:VCALENDAR