BEGIN:VCALENDAR
VERSION:2.0
PRODID:-//Parcevall Hall - ECPv5.14.0.2//NONSGML v1.0//EN
CALSCALE:GREGORIAN
METHOD:PUBLISH
X-WR-CALNAME:Parcevall Hall
X-ORIGINAL-URL:https://www.parcevallhall.org.uk
X-WR-CALDESC:Events for Parcevall Hall
REFRESH-INTERVAL;VALUE=DURATION:PT1H
X-Robots-Tag:noindex
X-PUBLISHED-TTL:PT1H
BEGIN:VTIMEZONE
TZID:UTC
BEGIN:STANDARD
TZOFFSETFROM:+0000
TZOFFSETTO:+0000
TZNAME:UTC
DTSTART:20230101T000000
END:STANDARD
END:VTIMEZONE
BEGIN:VEVENT
DTSTART;TZID=UTC:20230518T160000
DTEND;TZID=UTC:20230521T150000
DTSTAMP:20260424T205811
CREATED:20221113T120713Z
LAST-MODIFIED:20221113T120623Z
UID:5067-1684425600-1684681200@www.parcevallhall.org.uk
SUMMARY:Fellowship of Contemplative Prayer
DESCRIPTION:Witness: Revd Martin Thorpe\n\nA silent ‘listening’ retreat. Contemplative life is the expression of the desire to seek stillness amid the rush of life\, to hear ‘the still small voice’ amid today’s clamour; to search for and listen to  God. Experienced with others in a group\, silence is deeper and more powerful than when alone. By making a space for yourself and your relationship with God\, you are giving yourself and Him  a wonderful gift. Martin will be leading retreatants in contemplation of chosen Dominical sayings. \nMartin is a Pioneer Team Vicar in Warrington who has been a priest for 30 years. He is a Trustee and Council member of the Fellowship of Contemplative Prayer and an experienced ‘Witness’  and FCP Retreat leader. Formerly a research chemist\, he retains a strong interest in science and nature. He is fully inclusive. \nBookings should be made through the Hall. For more information on any aspect of this FCP retreat\, please contact Sue Davies on 01924 255129/07749 592858\, or email  susandavies367@gmail.com. For more information about the Fellowship of Contemplative Prayer\, visit www.contemplative-prayer.org.uk. \nThe second FCP retreat this year is from 27-29 October.
URL:https://www.parcevallhall.org.uk/event/fellowship-of-contemplative-prayer/
END:VEVENT
END:VCALENDAR