BEGIN:VCALENDAR
VERSION:2.0
PRODID:-//Parcevall Hall - ECPv5.14.0.2//NONSGML v1.0//EN
CALSCALE:GREGORIAN
METHOD:PUBLISH
X-WR-CALNAME:Parcevall Hall
X-ORIGINAL-URL:https://www.parcevallhall.org.uk
X-WR-CALDESC:Events for Parcevall Hall
REFRESH-INTERVAL;VALUE=DURATION:PT1H
X-Robots-Tag:noindex
X-PUBLISHED-TTL:PT1H
BEGIN:VTIMEZONE
TZID:UTC
BEGIN:STANDARD
TZOFFSETFROM:+0000
TZOFFSETTO:+0000
TZNAME:UTC
DTSTART:20230101T000000
END:STANDARD
END:VTIMEZONE
BEGIN:VEVENT
DTSTART;TZID=UTC:20230526T160000
DTEND;TZID=UTC:20230528T150000
DTSTAMP:20260424T205808
CREATED:20221113T121117Z
LAST-MODIFIED:20221113T120947Z
UID:5070-1685116800-1685286000@www.parcevallhall.org.uk
SUMMARY:Recorder Players' Workshop II
DESCRIPTION:Tutor: Mary Tyers\n\nEnsemble playing in a relaxed and friendly atmosphere\, this workshop is aimed at experienced adult players who ideally offer two instruments and are able to swap between them. The ability to hold your own part in a group and good sight-reading skills are key. Expect a wide variety of interesting music and technique tuition\, as required. \nMary is well-established in the north of  England as both a teacher and performer. In addition to teaching at her home near Durham\, she has busy schedules in Cumbria and at the Early Music  Shop\, Saltaire. Mary also teaches online. She founded\, and continues to be the Musical Director of the Durham branch of the Society of Recorder Players\, and is regularly invited to guest  conduct at other SRP branches and festivals. She also leads workshops for various Early Music forums and tutors at the Early Music summer schools\, NORVIS and HISS.
URL:https://www.parcevallhall.org.uk/event/recorder-players-workshop-ii-4/
END:VEVENT
END:VCALENDAR