BEGIN:VCALENDAR
VERSION:2.0
PRODID:-//Parcevall Hall - ECPv5.14.0.2//NONSGML v1.0//EN
CALSCALE:GREGORIAN
METHOD:PUBLISH
X-WR-CALNAME:Parcevall Hall
X-ORIGINAL-URL:https://www.parcevallhall.org.uk
X-WR-CALDESC:Events for Parcevall Hall
REFRESH-INTERVAL;VALUE=DURATION:PT1H
X-Robots-Tag:noindex
X-PUBLISHED-TTL:PT1H
BEGIN:VTIMEZONE
TZID:UTC
BEGIN:STANDARD
TZOFFSETFROM:+0000
TZOFFSETTO:+0000
TZNAME:UTC
DTSTART:20230101T000000
END:STANDARD
END:VTIMEZONE
BEGIN:VEVENT
DTSTART;TZID=UTC:20230628T160000
DTEND;TZID=UTC:20230630T150000
DTSTAMP:20260424T174920
CREATED:20221113T154247Z
LAST-MODIFIED:20221113T154106Z
UID:5077-1687968000-1688137200@www.parcevallhall.org.uk
SUMMARY:Living the Contemplative Life: What gets in the way?
DESCRIPTION:Tutor: Jill Benet\n\nWhat do we understand by The Contemplative Life? What expectations do we hold of ourselves and those around us? Rooted in the practice of Centering prayer and drawing on the work of  Thomas Keating\, Cynthia Bourgeault and others\, as well as our experience\, Jill will help us explore how the Contemplative Life has meaning in the everydayness of our lives. Much of the  weekend will be spent in quiet with extended periods of silent prayer. It is an invitation to find inner rest within a small community for a weekend\, and individually\, beyond. \nJill is a teacher of Centering Prayer\, and has attended retreats led by her two key influences\, Thomas Keating and Cynthia Bourgeault\, and Richard Rohr\, amongst others. She trained in the US and UK and is co-founder of the ‘Silence in the City’ series of talks on the contemplative life.
URL:https://www.parcevallhall.org.uk/event/living-the-contemplative-life-what-gets-in-the-way/
END:VEVENT
END:VCALENDAR