BEGIN:VCALENDAR
VERSION:2.0
PRODID:-//Parcevall Hall - ECPv5.14.0.2//NONSGML v1.0//EN
CALSCALE:GREGORIAN
METHOD:PUBLISH
X-WR-CALNAME:Parcevall Hall
X-ORIGINAL-URL:https://www.parcevallhall.org.uk
X-WR-CALDESC:Events for Parcevall Hall
REFRESH-INTERVAL;VALUE=DURATION:PT1H
X-Robots-Tag:noindex
X-PUBLISHED-TTL:PT1H
BEGIN:VTIMEZONE
TZID:UTC
BEGIN:STANDARD
TZOFFSETFROM:+0000
TZOFFSETTO:+0000
TZNAME:UTC
DTSTART:20230101T000000
END:STANDARD
END:VTIMEZONE
BEGIN:VEVENT
DTSTART;TZID=UTC:20230815T160000
DTEND;TZID=UTC:20230817T150000
DTSTAMP:20260424T160822
CREATED:20221113T155238Z
LAST-MODIFIED:20221113T155036Z
UID:5088-1692115200-1692284400@www.parcevallhall.org.uk
SUMMARY:Art Appreciation II - Swedish Impressionism: Art & Society Transformed
DESCRIPTION:Tutor: Tim Stimson\n\nThe Opponents can be likened to Swedish Impressionism\, with Carl Larsson and  Anders Zorn\, amongst other significant artists\, evolving new ways of depicting their world\, whilst concerned that their art should also contribute to a more enlightened society. \nTim’s involvement in art began with the practical. For a number of years\, he was a professional painter and ceramicist in Scotland and Wales\, before returning to university to study literature and the history of art.  For the last 30 years he has been a freelance cultural/art historian\, specialising in 17th and 19th-century art and society. He now lectures for the University of Cambridge\, the WEA\, the Art Fund and the Arts Society (formerly NADFAS)\, and presents residential study courses in Britain and Europe. Tim has now completed two lecture tours of Australia\, the last in 2016\, and presented a lecture for Hull City of Culture 2017 on T E Ferens\, patron of Hull’s newly refurbished gallery. \nThe first Art Appreciation event this year is from 25-27 April.
URL:https://www.parcevallhall.org.uk/event/art-appreciation-ii-swedish-impressionism-art-society-transformed/
END:VEVENT
END:VCALENDAR