BEGIN:VCALENDAR
VERSION:2.0
PRODID:-//Parcevall Hall - ECPv5.14.0.2//NONSGML v1.0//EN
CALSCALE:GREGORIAN
METHOD:PUBLISH
X-WR-CALNAME:Parcevall Hall
X-ORIGINAL-URL:https://www.parcevallhall.org.uk
X-WR-CALDESC:Events for Parcevall Hall
REFRESH-INTERVAL;VALUE=DURATION:PT1H
X-Robots-Tag:noindex
X-PUBLISHED-TTL:PT1H
BEGIN:VTIMEZONE
TZID:UTC
BEGIN:STANDARD
TZOFFSETFROM:+0000
TZOFFSETTO:+0000
TZNAME:UTC
DTSTART:20230101T000000
END:STANDARD
END:VTIMEZONE
BEGIN:VEVENT
DTSTART;TZID=UTC:20230821T100000
DTEND;TZID=UTC:20230821T160000
DTSTAMP:20260424T160910
CREATED:20221114T133152Z
LAST-MODIFIED:20221114T133039Z
UID:5097-1692612000-1692633600@www.parcevallhall.org.uk
SUMMARY:Quiet Day III
DESCRIPTION:Leader: The Very Revd Simon Cowling\n\nEncounters with the Divine\nScripture is full of descriptions of human encounters with the Divine. On this Quiet Day Simon will reflect on three such encounters with the help of art and music\, and will suggest ways in which we ourselves might be open to such encounters in our own lives of discipleship. \nSimon Cowling has been Dean of Wakefield since 2018. He has served for the whole of his ordained ministry in Yorkshire – in inner city and suburban Leeds as a curate and incumbent\, at  Sheffield Cathedral as a Residentiary Canon and\, before moving to Wakefield\, as Rector of Bolton Abbey. \nThis is a free event\, but please note\, booking is now required. Please email or phone the office to book your place.\nPlease bring your own lunch\nFreewill offering
URL:https://www.parcevallhall.org.uk/event/quiet-day-iii/
END:VEVENT
END:VCALENDAR