BEGIN:VCALENDAR
VERSION:2.0
PRODID:-//Parcevall Hall - ECPv5.14.0.2//NONSGML v1.0//EN
CALSCALE:GREGORIAN
METHOD:PUBLISH
X-WR-CALNAME:Parcevall Hall
X-ORIGINAL-URL:https://www.parcevallhall.org.uk
X-WR-CALDESC:Events for Parcevall Hall
REFRESH-INTERVAL;VALUE=DURATION:PT1H
X-Robots-Tag:noindex
X-PUBLISHED-TTL:PT1H
BEGIN:VTIMEZONE
TZID:UTC
BEGIN:STANDARD
TZOFFSETFROM:+0000
TZOFFSETTO:+0000
TZNAME:UTC
DTSTART:20230101T000000
END:STANDARD
END:VTIMEZONE
BEGIN:VEVENT
DTSTART;TZID=UTC:20231002T100000
DTEND;TZID=UTC:20231002T160000
DTSTAMP:20260424T130430
CREATED:20221114T134009Z
LAST-MODIFIED:20230528T135153Z
UID:5105-1696240800-1696262400@www.parcevallhall.org.uk
SUMMARY:Quiet Day IV
DESCRIPTION:Leader: The Right Reverend Lord Hope\n\nHow can we sing the Lord’s song…?\nReflections on the psalms at a time when hardly any of the psalms are any longer used in our churches. The psalms still provide ancient wisdom and a rich resource for use in all manner of  situations and circumstances of our lives today. \nDavid Hope was born in Wakefield where he attended the grammar school and sang in the cathedral choir. After gaining a degree in Theology\, he went to Stephen’s House\, Oxford\, to prepare for ordination. His first incumbency was in Warrington and in 1985 he became the Diocesan Bishop of Wakefield\, and in 1991\, the Bishop of  London. From 1995 until 2005 he was Archbishop of York. Following retirement in 2005 he returned to parish life as vicar of St Margaret’s\, Ilkley. He now describes himself as priest of last resort! \nThis is a free event\, but please note\, booking is now required. Please email or phone the office to book your place.\nPlease bring your own lunch.\nFreewill offering \n  \nFULLY BOOKED – Waiting List available
URL:https://www.parcevallhall.org.uk/event/quiet-day-iv/
END:VEVENT
END:VCALENDAR