BEGIN:VCALENDAR
VERSION:2.0
PRODID:-//Parcevall Hall - ECPv5.14.0.2//NONSGML v1.0//EN
CALSCALE:GREGORIAN
METHOD:PUBLISH
X-WR-CALNAME:Parcevall Hall
X-ORIGINAL-URL:https://www.parcevallhall.org.uk
X-WR-CALDESC:Events for Parcevall Hall
REFRESH-INTERVAL;VALUE=DURATION:PT1H
X-Robots-Tag:noindex
X-PUBLISHED-TTL:PT1H
BEGIN:VTIMEZONE
TZID:UTC
BEGIN:STANDARD
TZOFFSETFROM:+0000
TZOFFSETTO:+0000
TZNAME:UTC
DTSTART:20230101T000000
END:STANDARD
END:VTIMEZONE
BEGIN:VEVENT
DTSTART;TZID=UTC:20231010T160000
DTEND;TZID=UTC:20231012T150000
DTSTAMP:20260424T130312
CREATED:20221114T134523Z
LAST-MODIFIED:20230528T134956Z
UID:5113-1696953600-1697122800@www.parcevallhall.org.uk
SUMMARY:Recorder Players' Workshop IV
DESCRIPTION:Tutor: Hilary Oliver\n\nEnsemble playing in a relaxed and friendly atmosphere\, this workshop is aimed at experienced adult players who ideally offer two instruments and are able to swap between them. The ability to  hold your own part in a group and good sight-reading skills are key. Expect a wide variety of interesting music and technique tuition\, as required. \nHilary is a retired music teacher who has played recorder for over 50 years. She started conducting and teaching whilst in the school sixth form\, then continued her musical studies at the  Birmingham School of Music. She has worked as a peripatetic woodwind tutor for more than 25 years. Playing in a local consort as well as an early music wind ensemble\, she also conducts  SRP meetings to indulge her passion for both ancient and modern recorder music. \nFULLY BOOKED – Waiting List available
URL:https://www.parcevallhall.org.uk/event/recorder-players-workshop-iv-6/
END:VEVENT
END:VCALENDAR