BEGIN:VCALENDAR
VERSION:2.0
PRODID:-//Parcevall Hall - ECPv5.14.0.2//NONSGML v1.0//EN
CALSCALE:GREGORIAN
METHOD:PUBLISH
X-WR-CALNAME:Parcevall Hall
X-ORIGINAL-URL:https://www.parcevallhall.org.uk
X-WR-CALDESC:Events for Parcevall Hall
REFRESH-INTERVAL;VALUE=DURATION:PT1H
X-Robots-Tag:noindex
X-PUBLISHED-TTL:PT1H
BEGIN:VTIMEZONE
TZID:UTC
BEGIN:STANDARD
TZOFFSETFROM:+0000
TZOFFSETTO:+0000
TZNAME:UTC
DTSTART:20230101T000000
END:STANDARD
END:VTIMEZONE
BEGIN:VEVENT
DTSTART;TZID=UTC:20231103T160000
DTEND;TZID=UTC:20231105T150000
DTSTAMP:20260424T112629
CREATED:20221114T162306Z
LAST-MODIFIED:20221114T161942Z
UID:5121-1699027200-1699196400@www.parcevallhall.org.uk
SUMMARY:Heart & Soul Singing Retreat III
DESCRIPTION:Tutor: Keely Hodgson\n\nCombine singing in harmony with rest\, nurture and inspiration. No previous singing experience\, or the ability to read music\, is required. A varied repertoire of songs and rounds are sensitively  taught using call and response. \nKeely Hodgson is a composer and natural voice practitioner. She has worked as a music specialist in primary and special school settings and leads a number of community singing groups\,  including Ben Rhydding Community Choir. She organises monthly events of music and the spoken word. Keely is committed to sharing the sense of well-being and soulful connection that  singing with others can bring and helping those who have not sung before to discover their unique voice. \nThe first Heart & Soul Singing Retreat this year is from 24-26 March\, and the second is from 19-21 July.
URL:https://www.parcevallhall.org.uk/event/heart-soul-singing-retreat-iii-3/
END:VEVENT
END:VCALENDAR