BEGIN:VCALENDAR
VERSION:2.0
PRODID:-//Parcevall Hall - ECPv5.14.0.2//NONSGML v1.0//EN
CALSCALE:GREGORIAN
METHOD:PUBLISH
X-WR-CALNAME:Parcevall Hall
X-ORIGINAL-URL:https://www.parcevallhall.org.uk
X-WR-CALDESC:Events for Parcevall Hall
REFRESH-INTERVAL;VALUE=DURATION:PT1H
X-Robots-Tag:noindex
X-PUBLISHED-TTL:PT1H
BEGIN:VTIMEZONE
TZID:UTC
BEGIN:STANDARD
TZOFFSETFROM:+0000
TZOFFSETTO:+0000
TZNAME:UTC
DTSTART:20230101T000000
END:STANDARD
END:VTIMEZONE
BEGIN:VEVENT
DTSTART;TZID=UTC:20231201T160000
DTEND;TZID=UTC:20231203T150000
DTSTAMP:20260424T100118
CREATED:20221114T162506Z
LAST-MODIFIED:20230528T135345Z
UID:5124-1701446400-1701615600@www.parcevallhall.org.uk
SUMMARY:Recorder Players' Workshop V
DESCRIPTION:Tutors: Ruth Burbidge & Terry Smurthwaite\n\nEnsemble playing in a relaxed and friendly atmosphere\, this workshop is aimed at experienced adult players who ideally offer two instruments and are able to swap between them. The ability to  hold your own part in a group and good sight-reading skills are key. Expect a wide variety of interesting music and technique tuition\, as required. \nRuth’s musical training includes three years at the Royal Academy of Music\, and after several years’ teaching\, a year at Trinity College of Music. Well-known for her accompanying and tutoring  skills\, she is experienced in conducting small groups\, chamber groups and orchestras throughout the UK. \nTerry regularly conducts Society of Recorder Players’ meetings at Leeds\, Bingley and York. He also conducts a group which meets weekly in Ilkley and has recently founded and conducts The Rombalds Recorders\, a group set up to perform early music. In addition to bringing a wide range of music\, he is able to offer advice on the techniques of ensemble playing and musicianship. \nFULLY BOOKED –  Waiting List available
URL:https://www.parcevallhall.org.uk/event/recorder-players-workshop-v-5/
END:VEVENT
END:VCALENDAR