BEGIN:VCALENDAR
VERSION:2.0
PRODID:-//Parcevall Hall - ECPv5.14.0.2//NONSGML v1.0//EN
CALSCALE:GREGORIAN
METHOD:PUBLISH
X-WR-CALNAME:Parcevall Hall
X-ORIGINAL-URL:https://www.parcevallhall.org.uk
X-WR-CALDESC:Events for Parcevall Hall
REFRESH-INTERVAL;VALUE=DURATION:PT1H
X-Robots-Tag:noindex
X-PUBLISHED-TTL:PT1H
BEGIN:VTIMEZONE
TZID:UTC
BEGIN:STANDARD
TZOFFSETFROM:+0000
TZOFFSETTO:+0000
TZNAME:UTC
DTSTART:20240101T000000
END:STANDARD
END:VTIMEZONE
BEGIN:VEVENT
DTSTART;TZID=UTC:20240409T160000
DTEND;TZID=UTC:20240411T150000
DTSTAMP:20260422T033520
CREATED:20231030T121701Z
LAST-MODIFIED:20231030T121528Z
UID:5251-1712678400-1712847600@www.parcevallhall.org.uk
SUMMARY:Literature Appreciation I
DESCRIPTION:The World of Troilus and Cressida \nTutor:  Hugh Parry \n  \nThe bitter Trojan war is at last coming to an end. Meanwhile\, there is passion of a very different kind (but perhaps equally intense)\, played out between two of the most famous\, or notorious\, lovers in literature\, with writers such as Boccaccio\, Chaucer\, Henryson and Shakespeare thrilling and shocking readers with their story. This course will follow their ill-starred romance\, and take a glance at some of the other legendary figures amongst whom they moved. \nHugh Parry has offered adult education classes in literature for over 30 years. Although loyal all his life to Shakespeare\, he has over the years given courses on a diverse range of topics\, including detective fiction\, utopias\, ghost stories\, Cowper\, Swift and R S Thomas. \n  \nThe second Literature Appreciation retreat this year is from 9 – 12 September.
URL:https://www.parcevallhall.org.uk/event/literature-appreciation-i-3/
END:VEVENT
END:VCALENDAR