BEGIN:VCALENDAR
VERSION:2.0
PRODID:-//Parcevall Hall - ECPv5.14.0.2//NONSGML v1.0//EN
CALSCALE:GREGORIAN
METHOD:PUBLISH
X-WR-CALNAME:Parcevall Hall
X-ORIGINAL-URL:https://www.parcevallhall.org.uk
X-WR-CALDESC:Events for Parcevall Hall
REFRESH-INTERVAL;VALUE=DURATION:PT1H
X-Robots-Tag:noindex
X-PUBLISHED-TTL:PT1H
BEGIN:VTIMEZONE
TZID:UTC
BEGIN:STANDARD
TZOFFSETFROM:+0000
TZOFFSETTO:+0000
TZNAME:UTC
DTSTART:20240101T000000
END:STANDARD
END:VTIMEZONE
BEGIN:VEVENT
DTSTART;TZID=UTC:20240422T160000
DTEND;TZID=UTC:20240426T150000
DTSTAMP:20260422T034233
CREATED:20231030T121505Z
LAST-MODIFIED:20231030T121256Z
UID:5261-1713801600-1714143600@www.parcevallhall.org.uk
SUMMARY:Anglican Association  Retreat
DESCRIPTION:Hope is a Duty \nConductor:  Canon Andy Hawes SSC \nLiving in times of great uncertainty and jeopardy in many aspects of life\, this retreat will explore the Christian understanding and experience of hope. Services will be in accordance with the Book of Common Prayer and the Authorised Version of the Bible. \nIt is not necessary to be a member of the Anglican Association to come on this retreat\, and all are welcome. \nAll bookings should be made through Mrs Rosemary Hall. Rosemary is also the contact for questions and enquiries relating to this event. Telephone 0191 285 7534 or email hallrosemary36@gmail.com
URL:https://www.parcevallhall.org.uk/event/anglican-association-retreat-3/
END:VEVENT
END:VCALENDAR