BEGIN:VCALENDAR
VERSION:2.0
PRODID:-//Parcevall Hall - ECPv5.14.0.2//NONSGML v1.0//EN
CALSCALE:GREGORIAN
METHOD:PUBLISH
X-WR-CALNAME:Parcevall Hall
X-ORIGINAL-URL:https://www.parcevallhall.org.uk
X-WR-CALDESC:Events for Parcevall Hall
REFRESH-INTERVAL;VALUE=DURATION:PT1H
X-Robots-Tag:noindex
X-PUBLISHED-TTL:PT1H
BEGIN:VTIMEZONE
TZID:UTC
BEGIN:STANDARD
TZOFFSETFROM:+0000
TZOFFSETTO:+0000
TZNAME:UTC
DTSTART:20240101T000000
END:STANDARD
END:VTIMEZONE
BEGIN:VEVENT
DTSTART;TZID=UTC:20240501T160000
DTEND;TZID=UTC:20240501T210000
DTSTAMP:20260421T203357
CREATED:20231030T121350Z
LAST-MODIFIED:20231030T121127Z
UID:5265-1714579200-1714597200@www.parcevallhall.org.uk
SUMMARY:Friends of Parcevall Hall Eucharist & Annual Dinner
DESCRIPTION:The Friends of Parcevall Hall meet for a time of worship and fellowship over a three course dinner\, served with wine.  There is the option to stay overnight. \nDinner:  £29 \nDinner\, bed & breakfast £89
URL:https://www.parcevallhall.org.uk/event/friends-of-parcevall-hall-eucharist-annual-dinner-7/
END:VEVENT
END:VCALENDAR