BEGIN:VCALENDAR
VERSION:2.0
PRODID:-//Parcevall Hall - ECPv5.14.0.2//NONSGML v1.0//EN
CALSCALE:GREGORIAN
METHOD:PUBLISH
X-WR-CALNAME:Parcevall Hall
X-ORIGINAL-URL:https://www.parcevallhall.org.uk
X-WR-CALDESC:Events for Parcevall Hall
REFRESH-INTERVAL;VALUE=DURATION:PT1H
X-Robots-Tag:noindex
X-PUBLISHED-TTL:PT1H
BEGIN:VTIMEZONE
TZID:UTC
BEGIN:STANDARD
TZOFFSETFROM:+0000
TZOFFSETTO:+0000
TZNAME:UTC
DTSTART:20240101T000000
END:STANDARD
END:VTIMEZONE
BEGIN:VEVENT
DTSTART;TZID=UTC:20240528T160000
DTEND;TZID=UTC:20240530T150000
DTSTAMP:20260419T212046
CREATED:20231030T121136Z
LAST-MODIFIED:20231030T120949Z
UID:5269-1716912000-1717081200@www.parcevallhall.org.uk
SUMMARY:Recorder Players' Workshop II
DESCRIPTION:Tutor:  Terry Smurthwaite \nEnsemble playing in a relaxed and friendly atmosphere\, this workshop is aimed at experienced adult players who ideally offer two instruments and are able to swap between them. The ability to hold your own part in a group and good sight-reading skills are key. Expect a wide variety of interesting music and technique tuition\, as required. \nTerry conducts at SRP branches across the North of England including York\, Sheffield\, Cleveland and Durham. He is currently music director at both The West Riding Branch and the Cumbria Recorder Society. He has conducted regularly at the SRP National Festivals and has been invited to conduct at the October Recorder Festival in Bury St Edmonds in the Autumn of 2023. He is founder and conductor of Rombald’s Recorders\, an orchestra set up to perform music from the Renaissance to the present day. The group performs at venues across the North of England. Peacock Press have recently published several of his arrangements for recorder in their Early Music series. \nIn addition to bringing a wide range of music\, he is able to offer advice on the techniques of ensemble playing and musicianship. \nThere are four other Recorder Player Workshops this year: 5 – 7 March\, 2 – 4 August\, 8 – 10 October & 6 – 8 December.
URL:https://www.parcevallhall.org.uk/event/recorder-players-workshop-ii-5/
END:VEVENT
END:VCALENDAR