BEGIN:VCALENDAR
VERSION:2.0
PRODID:-//Parcevall Hall - ECPv5.14.0.2//NONSGML v1.0//EN
CALSCALE:GREGORIAN
METHOD:PUBLISH
X-WR-CALNAME:Parcevall Hall
X-ORIGINAL-URL:https://www.parcevallhall.org.uk
X-WR-CALDESC:Events for Parcevall Hall
REFRESH-INTERVAL;VALUE=DURATION:PT1H
X-Robots-Tag:noindex
X-PUBLISHED-TTL:PT1H
BEGIN:VTIMEZONE
TZID:UTC
BEGIN:STANDARD
TZOFFSETFROM:+0000
TZOFFSETTO:+0000
TZNAME:UTC
DTSTART:20240101T000000
END:STANDARD
END:VTIMEZONE
BEGIN:VEVENT
DTSTART;TZID=UTC:20240813T160000
DTEND;TZID=UTC:20240815T150000
DTSTAMP:20260419T181116
CREATED:20231030T120353Z
LAST-MODIFIED:20231030T120203Z
UID:5289-1723564800-1723734000@www.parcevallhall.org.uk
SUMMARY:Art Appreciation II
DESCRIPTION:Tutor:  Tim Stimson \nHow Pleasant to know Edward Lear \n  \nEdward Lear`s Book of Nonsense has never been out of print\, but what often isn`t realized is that he made his living producing exquisite topographical watercolours from exotic locations. A man of versatile genius; ornithologist\, diarist\, composer- this warm and delightful person expressed his philosophy through timeless humour. \n Tim’s involvement in art began with the practical. For a number of years\, he was a professional painter and ceramicist in Scotland and Wales\, before returning to university to study literature and the history of art.  For the last 30 years he has been a freelance cultural/art historian\, specialising in 17th and 19th-century art and society. He now lectures for the University of Cambridge\, the WEA\, the Art Fund and the Arts Society (formerly NADFAS)\, and presents residential study courses in Britain and Europe. Tim has now completed two lecture tours of Australia\, the last in 2016\, and presented a lecture for Hull City of Culture 2017 on T E Ferens\, patron of Hull’s newly refurbished gallery. \nThe first Art Appreciation retreat this year is from 16 – 18 April. \n  \n 
URL:https://www.parcevallhall.org.uk/event/art-appreciation-ii/
END:VEVENT
END:VCALENDAR