BEGIN:VCALENDAR
VERSION:2.0
PRODID:-//Parcevall Hall - ECPv5.14.0.2//NONSGML v1.0//EN
CALSCALE:GREGORIAN
METHOD:PUBLISH
X-WR-CALNAME:Parcevall Hall
X-ORIGINAL-URL:https://www.parcevallhall.org.uk
X-WR-CALDESC:Events for Parcevall Hall
REFRESH-INTERVAL;VALUE=DURATION:PT1H
X-Robots-Tag:noindex
X-PUBLISHED-TTL:PT1H
BEGIN:VTIMEZONE
TZID:UTC
BEGIN:STANDARD
TZOFFSETFROM:+0000
TZOFFSETTO:+0000
TZNAME:UTC
DTSTART:20240101T000000
END:STANDARD
END:VTIMEZONE
BEGIN:VEVENT
DTSTART;TZID=UTC:20240819T100000
DTEND;TZID=UTC:20240819T160000
DTSTAMP:20260419T181116
CREATED:20231030T120324Z
LAST-MODIFIED:20231030T120130Z
UID:5291-1724061600-1724083200@www.parcevallhall.org.uk
SUMMARY:Quiet Day III
DESCRIPTION:Potholes and Mountains \nLeader: Revd Jenny Savage \nPotholes and Mountains will journey us underground\, and on the mountain tops\, looking at some of the risks we take in life and the beauty of God we find when we dare to take risks. We will wonder about the trust and faith that has developed in us because we have taken risks\, and the beauty we have found. \nJenny spent several years as a PE and Dance teacher before taking time out to raise 4 children. She was ordained priest in the year 2000 and is now retired\, finding God’s beauty in the garden. \nThis is free event\, but please contact the Hall to book your place. \nPlease bring your own lunch. \n  \nFreewill offering
URL:https://www.parcevallhall.org.uk/event/quiet-day-iii-2/
END:VEVENT
END:VCALENDAR