BEGIN:VCALENDAR
VERSION:2.0
PRODID:-//Parcevall Hall - ECPv5.14.0.2//NONSGML v1.0//EN
CALSCALE:GREGORIAN
METHOD:PUBLISH
X-WR-CALNAME:Parcevall Hall
X-ORIGINAL-URL:https://www.parcevallhall.org.uk
X-WR-CALDESC:Events for Parcevall Hall
REFRESH-INTERVAL;VALUE=DURATION:PT1H
X-Robots-Tag:noindex
X-PUBLISHED-TTL:PT1H
BEGIN:VTIMEZONE
TZID:UTC
BEGIN:STANDARD
TZOFFSETFROM:+0000
TZOFFSETTO:+0000
TZNAME:UTC
DTSTART:20240101T000000
END:STANDARD
END:VTIMEZONE
BEGIN:VEVENT
DTSTART;TZID=UTC:20240924T160000
DTEND;TZID=UTC:20240927T150000
DTSTAMP:20260419T163006
CREATED:20231030T120219Z
LAST-MODIFIED:20231030T120022Z
UID:5295-1727193600-1727449200@www.parcevallhall.org.uk
SUMMARY:Autumn Rambling in Wharfedale
DESCRIPTION:Wharfedale’s varied landscape is on a reassuringly human scale; wild moorland\, wooded vales and boulder-strewn hillsides above the peaty waters of the River Wharfe. We offer a choice each day of either short or longer walks with our guides\, returning to the welcome and warmth of the Hall. Packed lunches are provided\, but if at any time you would rather take a stroll around the  gardens\, lunch can be served for you in the dining room. \nOur chaplain\, Canon Graham Bettridge\, will be here for a part of your stay to provide spiritual leadership for those who would like to participate. \nThere is one other walking break this year: 11 – 14 March
URL:https://www.parcevallhall.org.uk/event/autumn-rambling-in-wharfedale-7/
END:VEVENT
END:VCALENDAR