BEGIN:VCALENDAR
VERSION:2.0
PRODID:-//Parcevall Hall - ECPv5.14.0.2//NONSGML v1.0//EN
CALSCALE:GREGORIAN
METHOD:PUBLISH
X-WR-CALNAME:Parcevall Hall
X-ORIGINAL-URL:https://www.parcevallhall.org.uk
X-WR-CALDESC:Events for Parcevall Hall
REFRESH-INTERVAL;VALUE=DURATION:PT1H
X-Robots-Tag:noindex
X-PUBLISHED-TTL:PT1H
BEGIN:VTIMEZONE
TZID:UTC
BEGIN:STANDARD
TZOFFSETFROM:+0000
TZOFFSETTO:+0000
TZNAME:UTC
DTSTART:20260101T000000
END:STANDARD
END:VTIMEZONE
BEGIN:VEVENT
DTSTART;TZID=UTC:20260706T160000
DTEND;TZID=UTC:20260709T150000
DTSTAMP:20260426T024549
CREATED:20251022T125146Z
LAST-MODIFIED:20251022T125146Z
UID:5668-1783353600-1783609200@www.parcevallhall.org.uk
SUMMARY:Walk\, Rest and Pray Retreat
DESCRIPTION:Walk\, Rest and Pray Retreat 6-9 July led by Revd Mark and Gill Ireland. \nIn this retreat we shall go walking\, delighting in God’s creation and reflecting from the Bible on how to build refreshing sabbath rest into our often busy lives. There will be six walks during the retreat\, with moderately challenging and easier options. Please bring walking boots\, a Bible and waterproofs. Mark and Gill Ireland are pleased to have settled in Yorkshire following Mark’s retirement as Archdeacon of Blackburn.
URL:https://www.parcevallhall.org.uk/event/walk-rest-and-pray-retreat/
END:VEVENT
END:VCALENDAR