BEGIN:VCALENDAR
VERSION:2.0
PRODID:-//Parcevall Hall - ECPv5.14.0.2//NONSGML v1.0//EN
CALSCALE:GREGORIAN
METHOD:PUBLISH
X-WR-CALNAME:Parcevall Hall
X-ORIGINAL-URL:https://www.parcevallhall.org.uk
X-WR-CALDESC:Events for Parcevall Hall
REFRESH-INTERVAL;VALUE=DURATION:PT1H
X-Robots-Tag:noindex
X-PUBLISHED-TTL:PT1H
BEGIN:VTIMEZONE
TZID:UTC
BEGIN:STANDARD
TZOFFSETFROM:+0000
TZOFFSETTO:+0000
TZNAME:UTC
DTSTART:20260101T000000
END:STANDARD
END:VTIMEZONE
BEGIN:VEVENT
DTSTART;TZID=UTC:20260710T160000
DTEND;TZID=UTC:20260712T150000
DTSTAMP:20260426T024559
CREATED:20251022T125316Z
LAST-MODIFIED:20251022T125316Z
UID:5670-1783699200-1783868400@www.parcevallhall.org.uk
SUMMARY:Sing to the Lord a joyful song
DESCRIPTION:Sing to the Lord a joyful song 10-12 July led by Revd Mike Leigh. \nThis retreat will be a joyful weekend of song. Mike will teach songs using music from across the world which are easy to learn and full of harmony. Singing praise together will create a sense of community and open the channels of our awareness of God\, other people and the beauty of creation. All singing abilities and experience levels are welcome.
URL:https://www.parcevallhall.org.uk/event/sing-to-the-lord-a-joyful-song/
END:VEVENT
END:VCALENDAR