BEGIN:VCALENDAR
VERSION:2.0
PRODID:-//Parcevall Hall - ECPv5.14.0.2//NONSGML v1.0//EN
CALSCALE:GREGORIAN
METHOD:PUBLISH
X-WR-CALNAME:Parcevall Hall
X-ORIGINAL-URL:https://www.parcevallhall.org.uk
X-WR-CALDESC:Events for Parcevall Hall
REFRESH-INTERVAL;VALUE=DURATION:PT1H
X-Robots-Tag:noindex
X-PUBLISHED-TTL:PT1H
BEGIN:VTIMEZONE
TZID:UTC
BEGIN:STANDARD
TZOFFSETFROM:+0000
TZOFFSETTO:+0000
TZNAME:UTC
DTSTART:20260101T000000
END:STANDARD
END:VTIMEZONE
BEGIN:VEVENT
DTSTART;TZID=UTC:20260712T160000
DTEND;TZID=UTC:20260714T150000
DTSTAMP:20260426T024637
CREATED:20251022T121941Z
LAST-MODIFIED:20251022T121941Z
UID:5632-1783872000-1784041200@www.parcevallhall.org.uk
SUMMARY:Art Appreciation II
DESCRIPTION:The Pre-Raphaelite Rebellion\, led by Tim Stimson. \nTim is a cultural and art historian specialising in 17th and 19th century art and society\, who has also practiced professionally as a painter and ceramist. Participants from previous years have found Tim’s retreats enjoy his engaging approach and delivery.  \nThe paintings of the Pre-Raphaelites\, romantic and poetic in theme\, brightly lit\, dazzlingly colourful and meticulously detailed\, have remained the most loved of all Victorian images. In this course we will focus on the work of the original Brotherhood – William Holman\, Dante Gabriel Rosetti and John Everett Millais in the context of the “age of brown” which they were to demolish
URL:https://www.parcevallhall.org.uk/event/art-appreciation-ii-3/
END:VEVENT
END:VCALENDAR