BEGIN:VCALENDAR
VERSION:2.0
PRODID:-//Parcevall Hall - ECPv5.14.0.2//NONSGML v1.0//EN
CALSCALE:GREGORIAN
METHOD:PUBLISH
X-WR-CALNAME:Parcevall Hall
X-ORIGINAL-URL:https://www.parcevallhall.org.uk
X-WR-CALDESC:Events for Parcevall Hall
REFRESH-INTERVAL;VALUE=DURATION:PT1H
X-Robots-Tag:noindex
X-PUBLISHED-TTL:PT1H
BEGIN:VTIMEZONE
TZID:UTC
BEGIN:STANDARD
TZOFFSETFROM:+0000
TZOFFSETTO:+0000
TZNAME:UTC
DTSTART:20260101T000000
END:STANDARD
END:VTIMEZONE
BEGIN:VEVENT
DTSTART;TZID=UTC:20260715T160000
DTEND;TZID=UTC:20260717T150000
DTSTAMP:20260426T024549
CREATED:20251022T125552Z
LAST-MODIFIED:20251022T125552Z
UID:5674-1784131200-1784300400@www.parcevallhall.org.uk
SUMMARY:Retreat for Clergy Engaging with Islam and Muslims
DESCRIPTION:Retreat for Clergy Engaging with Islam and Muslims 15-17 July led by Bishop Toby Howarth. \nThis retreat offers companionship for reflection and renewal for clergy who live out a calling to engage with Muslims. There will be opportunities to share the joy of relationships and ministry as well as the challenges posed by context and the political environment. Bishop Toby brings a wealth of experience in this area and commitment to the pastoral care of clergy.\nCost: £198
URL:https://www.parcevallhall.org.uk/event/retreat-for-clergy-engaging-with-islam-and-muslims/
END:VEVENT
BEGIN:VEVENT
DTSTART;TZID=UTC:20260717T160000
DTEND;TZID=UTC:20260719T150000
DTSTAMP:20260426T024549
CREATED:20251022T125437Z
LAST-MODIFIED:20260416T122955Z
UID:5672-1784304000-1784473200@www.parcevallhall.org.uk
SUMMARY:Retreat for Carers and those who care
DESCRIPTION:Retreat for Carers and those who care 17-19 July led by Revd Henriette Howarth. \nThis weekend offers rest and spiritual nourishment to those who live with or care for loved ones who struggle with physical and / or mental health challenges.  There will be time to rest and receive from God\, learn from Scripture\, and experience God’s peace. The retreat will be facilitated by Henriette who is an experienced retreat leader\, supported by Sally with music and Carol with creative arts. \nCost: £198 \nIf finance would be a barrier to attending\, please let us know when booking because there is help available with costs.
URL:https://www.parcevallhall.org.uk/event/retreat-for-carers-and-those-who-care-2/
END:VEVENT
END:VCALENDAR