BEGIN:VCALENDAR
VERSION:2.0
PRODID:-//Parcevall Hall - ECPv5.14.0.2//NONSGML v1.0//EN
CALSCALE:GREGORIAN
METHOD:PUBLISH
X-WR-CALNAME:Parcevall Hall
X-ORIGINAL-URL:https://www.parcevallhall.org.uk
X-WR-CALDESC:Events for Parcevall Hall
REFRESH-INTERVAL;VALUE=DURATION:PT1H
X-Robots-Tag:noindex
X-PUBLISHED-TTL:PT1H
BEGIN:VTIMEZONE
TZID:UTC
BEGIN:STANDARD
TZOFFSETFROM:+0000
TZOFFSETTO:+0000
TZNAME:UTC
DTSTART:20230101T000000
END:STANDARD
END:VTIMEZONE
BEGIN:VEVENT
DTSTART;TZID=UTC:20230711T160000
DTEND;TZID=UTC:20230713T150000
DTSTAMP:20260424T160822
CREATED:20221113T154309Z
LAST-MODIFIED:20221114T132320Z
UID:5081-1689091200-1689260400@www.parcevallhall.org.uk
SUMMARY:Friends of Parcevall Hall Annual Gathering & AGM
DESCRIPTION:The Friends of Parcevall Hall meet for a time of fellowship and sharing together at the Hall. The AGM takes place on Wednesday 12 July. \nFull gathering: £168\nDay guest – AGM & lunch only: £28\nDay guest – AGM\, lunch & dinner: £46
URL:https://www.parcevallhall.org.uk/event/freinds-of-parcevall-hall-annual-gathering-agm/
END:VEVENT
BEGIN:VEVENT
DTSTART;TZID=UTC:20230719T160000
DTEND;TZID=UTC:20230721T150000
DTSTAMP:20260424T160822
CREATED:20221113T155043Z
LAST-MODIFIED:20230528T135444Z
UID:5084-1689782400-1689951600@www.parcevallhall.org.uk
SUMMARY:Heart & Soul Singing Retreat
DESCRIPTION:Tutor: Keely Hodgson\n\nCombine singing in harmony with rest\, nurture and inspiration. No previous singing experience\, or the ability to read music\, is required. A varied repertoire of songs and rounds are sensitively  taught using call and response. \nKeely Hodgson is a composer and natural voice practitioner. She has worked as a music specialist in primary and special school settings and leads a number of community singing groups\,  including Ben Rhydding Community Choir. She organises monthly events of music and the spoken word. Keely is committed to sharing the sense of well-being and soulful connection that  singing with others can bring and helping those who have not sung before to discover their unique voice. \nThere are two other Heart & Soul Singing Retreats this year: 24-26 March & 3-5 November \n \nFULLY BOOKED – Waiting list available
URL:https://www.parcevallhall.org.uk/event/heart-soul-singing-retreat-3/
END:VEVENT
END:VCALENDAR