BEGIN:VCALENDAR
VERSION:2.0
PRODID:-//Parcevall Hall - ECPv5.14.0.2//NONSGML v1.0//EN
CALSCALE:GREGORIAN
METHOD:PUBLISH
X-WR-CALNAME:Parcevall Hall
X-ORIGINAL-URL:https://www.parcevallhall.org.uk
X-WR-CALDESC:Events for Parcevall Hall
REFRESH-INTERVAL;VALUE=DURATION:PT1H
X-Robots-Tag:noindex
X-PUBLISHED-TTL:PT1H
BEGIN:VTIMEZONE
TZID:UTC
BEGIN:STANDARD
TZOFFSETFROM:+0000
TZOFFSETTO:+0000
TZNAME:UTC
DTSTART:20230101T000000
END:STANDARD
END:VTIMEZONE
BEGIN:VEVENT
DTSTART;TZID=UTC:20230912T160000
DTEND;TZID=UTC:20230915T150000
DTSTAMP:20260424T130431
CREATED:20221114T133527Z
LAST-MODIFIED:20221114T133433Z
UID:5101-1694534400-1694790000@www.parcevallhall.org.uk
SUMMARY:Literature Appreciation II: Music in Literature
DESCRIPTION:Tutor: Hugh Parry\n\nMusic is obviously in debt to literature for the texts which it turns into song andopera. The debt is not one-way: poems\, short stories\, novels and song lyrics interpret music verbally\, or describe composers\, musicians\, musical events\, and audiences. The material is so copious that any choice amongst it would be random\, so the course will make a virtue of this with a wide variety of  musical genres and writers. Where possible\, we will listen to the music which stimulated the texts\, too. \nHugh Parry has offered adult education classes in literature for over 30 years. Although loyal all his life to Shakespeare\, he has over the years given courses on a diverse range of topics\,  including detective fiction\, utopias\, ghost stories\, Cowper\, Swift and R S Thomas. \nThe first Literature Appreciation event this year is from 11-13 April.
URL:https://www.parcevallhall.org.uk/event/literature-appreciation-ii-music-in-literature/
END:VEVENT
END:VCALENDAR