BEGIN:VCALENDAR
VERSION:2.0
PRODID:-//Parcevall Hall - ECPv5.14.0.2//NONSGML v1.0//EN
CALSCALE:GREGORIAN
METHOD:PUBLISH
X-WR-CALNAME:Parcevall Hall
X-ORIGINAL-URL:https://www.parcevallhall.org.uk
X-WR-CALDESC:Events for Parcevall Hall
REFRESH-INTERVAL;VALUE=DURATION:PT1H
X-Robots-Tag:noindex
X-PUBLISHED-TTL:PT1H
BEGIN:VTIMEZONE
TZID:UTC
BEGIN:STANDARD
TZOFFSETFROM:+0000
TZOFFSETTO:+0000
TZNAME:UTC
DTSTART:20240101T000000
END:STANDARD
END:VTIMEZONE
BEGIN:VEVENT
DTSTART;TZID=UTC:20240205T100000
DTEND;TZID=UTC:20240209T100000
DTSTAMP:20260422T053051
CREATED:20231030T122624Z
LAST-MODIFIED:20231030T122419Z
UID:5234-1707127200-1707472800@www.parcevallhall.org.uk
SUMMARY:Clergy Reading Week
DESCRIPTION:Leader: Revd Canon Marion Russell \n  \nAn opportunity to take time away from the parish to read\, reflect\, walk\, chat\, rest and sleep. You are invited to bring along books of your own choice of a theological or spiritual nature. All who are present share with the group which books they have chosen and why. This often leads to conversations with each other during the retreat about books of mutual – or diverse – interest. \nAfter that introduction\, apart from meal and prayer times\, the remainder of this retreat is relaxed and unstructured – a time of refreshment for body\, mind and soul in a place of beauty and peace. The cost can be paid from your CMD retreat grant. If you have not been involved in this event before and would like to know more\, please contact Revd Canon Marion Russell by email at marion.russell@leeds.anglican.org \nFor bookings\, please contact Parcevall Hall. If you would like to use your Diocese of Leeds CMD/CME grant\, please mention this when making your booking. \nMarion is Vicar of Embsay with Eastby and the Clergy Development Officer for the Ripon Episcopal Area\, working with curates in training and supporting other clergy. She has a background in the education of vulnerable children\, has served as a Self-Supporting Minister (SSM) as well as in full-time incumbency and as Area Dean. Marion is currently additionally involved in the Spiritual Direction Formation Programme for the Diocese of Leeds\, and enjoys Parcevall Hall as a place where peace and contemplation can be explored.  Reading\, walking and good food – these wholesome ingredients in good company are part of the Clergy Reading Week at Parcevall Hall. \n  \n 
URL:https://www.parcevallhall.org.uk/event/clergy-reading-week-6/
END:VEVENT
BEGIN:VEVENT
DTSTART;TZID=UTC:20240213T160000
DTEND;TZID=UTC:20240216T150000
DTSTAMP:20260422T053051
CREATED:20231030T122409Z
LAST-MODIFIED:20231030T122258Z
UID:5237-1707840000-1708095600@www.parcevallhall.org.uk
SUMMARY:Lent Retreat
DESCRIPTION:Leader:  Revd Paul Fisher \n  \nPaul\, born in Bewdley North Worcestershire in 1943\, is a ‘retired’ Anglican priest living in Langcliffe\, Settle with his wife Sue. They have a son\, daughter\, and a grandson. Paul took degrees in Theology at Oxford and Birmingham\, and diplomas in Piano Teaching and Performance at Birmingham and the Royal College of Music. He is also a composer of choral\, organ\, piano and orchestral music. \nDuring his 30 years of parish\, church adult education\, laity and clergy training ministry\, Paul and his family have led an up and down country ‘yo-yo’ existence working in the Midlands\, Manchester University\, Cumbria\, and North & South London.  His ‘retirement’\, or ‘redirection’ as he prefers to call it\, has been spent helping out in parishes\, doing consultancy work\, spiritual direction\, community/neighbourhood mediation\, playing the organ for worship\, giving concerts\, and composing. \nPaul enjoys walking in the Dales\, climbing mountains\, reading history and biography\, and piano and organ playing. \n  \n 
URL:https://www.parcevallhall.org.uk/event/lent-retreat-3/
END:VEVENT
BEGIN:VEVENT
DTSTART;TZID=UTC:20240223T160000
DTEND;TZID=UTC:20240225T160000
DTSTAMP:20260422T053051
CREATED:20231030T122252Z
LAST-MODIFIED:20231030T122153Z
UID:5239-1708704000-1708876800@www.parcevallhall.org.uk
SUMMARY:Heart & Soul Singing Retreat
DESCRIPTION:Tutor:  Keely Hodgson \nCombine singing in harmony with rest\, nurture and inspiration. No previous singing experience\, or the ability to read music\, is required. A varied repertoire of songs and rounds are sensitively taught using call and response. \nKeely Hodgson is a composer and natural voice practitioner. She leads a number of community choirs\, including the Ben Rhydding Community Choir\, and is a member of a team of composers and arrangers for the choral website\, ChoirCommunity. She belongs to the Bring Me Sunshine Trio\, a social enterprise\, playing cello and guitar and singing in local care homes and runs The Purple Room\, a monthly evening of music and the spoken word in Ben Rhydding. Keely is committed to sharing the sense of well-being and soulful connection singing with others can bring\, and helping those who have not sung before to discover their unique voice. \nThere are three other Heart & Soul Singing Retreats this year: 12 – 14 April\, 19 – 21 June & 1 – 3 November.  \n 
URL:https://www.parcevallhall.org.uk/event/heart-soul-singing-retreat-4/
END:VEVENT
END:VCALENDAR