BEGIN:VCALENDAR
VERSION:2.0
PRODID:-//Parcevall Hall - ECPv5.14.0.2//NONSGML v1.0//EN
CALSCALE:GREGORIAN
METHOD:PUBLISH
X-WR-CALNAME:Parcevall Hall
X-ORIGINAL-URL:https://www.parcevallhall.org.uk
X-WR-CALDESC:Events for Parcevall Hall
REFRESH-INTERVAL;VALUE=DURATION:PT1H
X-Robots-Tag:noindex
X-PUBLISHED-TTL:PT1H
BEGIN:VTIMEZONE
TZID:UTC
BEGIN:STANDARD
TZOFFSETFROM:+0000
TZOFFSETTO:+0000
TZNAME:UTC
DTSTART:20240101T000000
END:STANDARD
END:VTIMEZONE
BEGIN:VEVENT
DTSTART;TZID=UTC:20241001T110000
DTEND;TZID=UTC:20241001T150000
DTSTAMP:20260419T132344
CREATED:20231030T120125Z
LAST-MODIFIED:20231030T115939Z
UID:5297-1727780400-1727794800@www.parcevallhall.org.uk
SUMMARY:Friends of Parcevall Hall Eucharist & Lunch
DESCRIPTION:The Friends of Parcevall Hall meet for a time of worship and fellowship together over lunch.  Coffee and biscuits will be served from 10.30am.
URL:https://www.parcevallhall.org.uk/event/friends-of-parcevall-hall-eucharist-lunch-10/
END:VEVENT
BEGIN:VEVENT
DTSTART;TZID=UTC:20241007T100000
DTEND;TZID=UTC:20241007T160000
DTSTAMP:20260419T132344
CREATED:20231030T120023Z
LAST-MODIFIED:20231030T115843Z
UID:5299-1728295200-1728316800@www.parcevallhall.org.uk
SUMMARY:Quiet Day IV
DESCRIPTION:Resting from Work and Working from Rest \nLeader:  Revd Colin Blake \n  \nThe first commandment given to us by God was to “be fruitful and multiply”. God designed us to be productive. But we build our identities around our activities. We are not living in the truth of who God created us to be. We have become human “doings” rather than human “beings.” We need a biblical framework for a rhythm of life that allows us to be fruitful in balance with being at rest. We need to be secure in who we are\, based on what Christ did for us on the cross and the very great promises we have that we are loved and accepted by him. We must stop striving to gain the acceptance of others by what we do\, leading to a driven lifestyle. The day will explore a Biblical understanding of the rhythms of rest and work which will enable us to lead fruitful lives. \nColin Blake has always had a desire to engage with new way of being church. After planting a church and school in the Bristol Diocese\, a move to Bath & Wells saw him lead a community church in a local pub\, alongside being a regional co-ordinator in the early days of Messy Church. This led to a relocation to Yorkshire where he became Fresh Expressions advisor to the Bishop of Bradford\, and leader of GraceSpace Fresh Expression in Saltaire. He concluded his ministry as Vicar of Wrose in Bradford before retiring with wife Katy to Hellifield. Colin enjoys computers\, blogging\, music and promoting concerts. \nThis is free event\, but please contact the Hall to book your place. \nPlease bring your own lunch. \n  \nFreewill offering
URL:https://www.parcevallhall.org.uk/event/quiet-day-iv-2/
END:VEVENT
BEGIN:VEVENT
DTSTART;TZID=UTC:20241008T160000
DTEND;TZID=UTC:20241010T150000
DTSTAMP:20260419T132344
CREATED:20231030T120058Z
LAST-MODIFIED:20231030T115739Z
UID:5301-1728403200-1728572400@www.parcevallhall.org.uk
SUMMARY:Recorder Players' Workshop IV
DESCRIPTION:Tutor:  Hilary Oliver \n  \nEnsemble playing in a relaxed and friendly atmosphere\, this workshop is aimed at experienced adult players who ideally offer two instruments and are able to swap between them. The ability to hold your own part in a group and good sight-reading skills are key. Expect a wide variety of interesting music and technique tuition\, as required. \nHilary is a retired music teacher who has played recorder for over 50 years. She started conducting and teaching whilst in the school sixth form\, then continued her musical studies at the Birmingham School of Music. She worked as a peripatetic woodwind tutor for more than 25 years. Playing in a local consort as well as an early music wind ensemble\, she also conducts SRP meetings to indulge her passion for both ancient and modern recorder music. \nThere are four other Recorder Player Workshops this year: 5 – 7 March\, 28 – 30 May\, 2 – 4 August & 6 – 8 December \n 
URL:https://www.parcevallhall.org.uk/event/recorder-players-workshop-iv-7/
END:VEVENT
END:VCALENDAR