BEGIN:VCALENDAR
VERSION:2.0
PRODID:-//Parcevall Hall - ECPv5.14.0.2//NONSGML v1.0//EN
CALSCALE:GREGORIAN
METHOD:PUBLISH
X-WR-CALNAME:Parcevall Hall
X-ORIGINAL-URL:https://www.parcevallhall.org.uk
X-WR-CALDESC:Events for Parcevall Hall
REFRESH-INTERVAL;VALUE=DURATION:PT1H
X-Robots-Tag:noindex
X-PUBLISHED-TTL:PT1H
BEGIN:VTIMEZONE
TZID:UTC
BEGIN:STANDARD
TZOFFSETFROM:+0000
TZOFFSETTO:+0000
TZNAME:UTC
DTSTART:20260101T000000
END:STANDARD
END:VTIMEZONE
BEGIN:VEVENT
DTSTART;TZID=UTC:20260803T160000
DTEND;TZID=UTC:20260805T150000
DTSTAMP:20260426T024637
CREATED:20251023T094809Z
LAST-MODIFIED:20251023T094809Z
UID:5690-1785772800-1785942000@www.parcevallhall.org.uk
SUMMARY:Friends of Parcevall Hall Annual Gathering and AGM
DESCRIPTION:Friends of Parcevall Hall – There are special events planned in each season of the year to provide regular opportunities for friendship\, fun and worship. These events are subsided by the Friends of Parcevall Hall\, to enable those who give so much to the Hall to spend time together here. \nThe Annual Gathering and AGM. Labyrinths\, Mazes and Puzzles – finding our way and having fun.  \nThis two-night stay at Parcevall has a lively programme of social activities including talks and walks\, quizzes and games\, as well as time for personal reflection\, worship and prayer. There will be interactive sessions led by an accredited labyrinth facilitator. If you can’t make the whole residential\, please consider coming for the day on Tuesday for the AGM and activities. \nResidential Cost for Friends: £152\nTuesday from 10am till 4pm Cost: £27
URL:https://www.parcevallhall.org.uk/event/friends-of-parcevall-hall-annual-gathering-and-agm-2/
END:VEVENT
BEGIN:VEVENT
DTSTART;TZID=UTC:20260814T100000
DTEND;TZID=UTC:20260814T160000
DTSTAMP:20260426T024637
CREATED:20250901T082350Z
LAST-MODIFIED:20250901T082350Z
UID:5578-1786701600-1786723200@www.parcevallhall.org.uk
SUMMARY:Retreat Day - Needle Felting Craft Day
DESCRIPTION:Needle Felting Craft Day on 15 August led by Isobel Coney \nThis craft day\, led by teaching artist Isobel\, is perfect for beginning and intermediate needle felters. You will be shown the skills for making a needle-felted bead and guided through the steps for making a garland\, small figures\, and other creations. By the end of the day\, you’ll have a completed project and have the skills to continue needle felting at home. All materials required are supplied. \nThe day runs from 10 – 4. Lunch and refreshments are included.\nCost: £45
URL:https://www.parcevallhall.org.uk/event/retreat-day-needle-felting-craft-day/
END:VEVENT
BEGIN:VEVENT
DTSTART;TZID=UTC:20260815T100000
DTEND;TZID=UTC:20260815T160000
DTSTAMP:20260426T024637
CREATED:20251022T122653Z
LAST-MODIFIED:20251022T122653Z
UID:5640-1786788000-1786809600@www.parcevallhall.org.uk
SUMMARY:Needle Felting Day
DESCRIPTION:Needle Felting Craft Day – led by Isobel Coney \nAt this craft day led by a teaching artist\, you will be shown the skills for making a needle-felted bead and guided through the steps for making a garland\, small figures\, and other creations. By the end of the day\, you’ll have a completed project and have the skills to continue needle felting at home. All materials required are supplied.\nThe day runs from 10 – 4.  \nLunch and refreshments are included.
URL:https://www.parcevallhall.org.uk/event/needle-felting-day/
END:VEVENT
BEGIN:VEVENT
DTSTART;TZID=UTC:20260819T160000
DTEND;TZID=UTC:20260821T150000
DTSTAMP:20260426T024637
CREATED:20251017T101313Z
LAST-MODIFIED:20251017T101313Z
UID:5615-1787155200-1787324400@www.parcevallhall.org.uk
SUMMARY:Heart & Soul Singing Retreat III
DESCRIPTION:Heart & Soul Singing Retreat – Led by Keely Hodgson. \nCombine singing in harmony with rest\, nurture and inspiration. No previous singing experience or the ability to read music required.  A varied repertoire of songs and rounds are sensitively taught using call and response. \nKeely is a composer and natural voice practitioner.  She leads a number of community choirs and is committed to sharing the sense of wellbeing singing with others can bring.
URL:https://www.parcevallhall.org.uk/event/heart-soul-singing-retreat-iii-6/
END:VEVENT
BEGIN:VEVENT
DTSTART;TZID=UTC:20260821T160000
DTEND;TZID=UTC:20260823T150000
DTSTAMP:20260426T024637
CREATED:20251013T124735Z
LAST-MODIFIED:20251013T124735Z
UID:5605-1787328000-1787497200@www.parcevallhall.org.uk
SUMMARY:Recorder Players Retreat III
DESCRIPTION:Recorder Players Retreat III – Conductor Mat Taylor \nMat is passionate about music\, especially on the recorder.  He aims to provide as wide a range of music as possible from many genres ranging from renaissance to modern\, and many pieces he has arranged himself. \nThese are informal and friendly residentials recorder ensemble playing.  They are aimed at competent adult players who ideally offer at least two instruments (C and F).  The ability to hold your own part in a group and good sight reading skills are Key.  Expect a wide variety of interesting music provided by the conductor. \nBookings are made through the office\, but for further details\, contact Pauline Welch on paulinewelch.moorfield@gmail.com
URL:https://www.parcevallhall.org.uk/event/recorder-players-retreat-iii/
END:VEVENT
END:VCALENDAR